BEGIN:VCALENDAR
VERSION:2.0
PRODID:-//The River Center - ECPv6.15.20//NONSGML v1.0//EN
CALSCALE:GREGORIAN
METHOD:PUBLISH
X-WR-CALNAME:The River Center
X-ORIGINAL-URL:https://palatkarivercenter.com
X-WR-CALDESC:Events for The River Center
REFRESH-INTERVAL;VALUE=DURATION:PT1H
X-Robots-Tag:noindex
X-PUBLISHED-TTL:PT1H
BEGIN:VTIMEZONE
TZID:UTC
BEGIN:STANDARD
TZOFFSETFROM:+0000
TZOFFSETTO:+0000
TZNAME:UTC
DTSTART:20240101T000000
END:STANDARD
END:VTIMEZONE
BEGIN:VTIMEZONE
TZID:America/New_York
BEGIN:DAYLIGHT
TZOFFSETFROM:-0500
TZOFFSETTO:-0400
TZNAME:EDT
DTSTART:20240310T070000
END:DAYLIGHT
BEGIN:STANDARD
TZOFFSETFROM:-0400
TZOFFSETTO:-0500
TZNAME:EST
DTSTART:20241103T060000
END:STANDARD
BEGIN:DAYLIGHT
TZOFFSETFROM:-0500
TZOFFSETTO:-0400
TZNAME:EDT
DTSTART:20250309T070000
END:DAYLIGHT
BEGIN:STANDARD
TZOFFSETFROM:-0400
TZOFFSETTO:-0500
TZNAME:EST
DTSTART:20251102T060000
END:STANDARD
BEGIN:DAYLIGHT
TZOFFSETFROM:-0500
TZOFFSETTO:-0400
TZNAME:EDT
DTSTART:20260308T070000
END:DAYLIGHT
BEGIN:STANDARD
TZOFFSETFROM:-0400
TZOFFSETTO:-0500
TZNAME:EST
DTSTART:20261101T060000
END:STANDARD
END:VTIMEZONE
BEGIN:VEVENT
DTSTART;TZID=UTC:20260116T200000
DTEND;TZID=UTC:20260116T230000
DTSTAMP:20260423T083331
CREATED:20250911T200617Z
LAST-MODIFIED:20250916T134523Z
UID:737-1768593600-1768604400@palatkarivercenter.com
SUMMARY:Community Movie Night!
DESCRIPTION:Stay tuned for more details!
URL:https://palatkarivercenter.com/event/community-movie-night-3/
LOCATION:The River Center\, 102 North 1st Street\, Palatka\, FL\, 32177\, United States
CATEGORIES:The River Center
END:VEVENT
BEGIN:VEVENT
DTSTART;TZID=UTC:20251203T100000
DTEND;TZID=UTC:20251203T140000
DTSTAMP:20260423T083331
CREATED:20250807T183901Z
LAST-MODIFIED:20250807T183909Z
UID:662-1764756000-1764770400@palatkarivercenter.com
SUMMARY:Talks with Rob Mattson
DESCRIPTION:Join Bartram Trail Society’s Rob Mattson at The River Center.
URL:https://palatkarivercenter.com/event/talks-with-rob-mattson-copy/
LOCATION:The River Center\, 102 North 1st Street\, Palatka\, FL\, 32177\, United States
CATEGORIES:The River Center
ATTACH;FMTTYPE=image/jpeg:https://palatkarivercenter.com/wp-content/uploads/2025/08/Front-Bartram-Image-v3-e1754591489840.jpg
END:VEVENT
BEGIN:VEVENT
DTSTART;TZID=UTC:20251122T120000
DTEND;TZID=UTC:20251122T170000
DTSTAMP:20260423T083331
CREATED:20250820T155041Z
LAST-MODIFIED:20250820T155101Z
UID:693-1763812800-1763830800@palatkarivercenter.com
SUMMARY:Craft Beer Festival
DESCRIPTION:More info coming soon!
URL:https://palatkarivercenter.com/event/craft-beer-festival/
LOCATION:The Riverfront\, Palatka\, FL\, 32177\, United States
CATEGORIES:Riverfront Park
ATTACH;FMTTYPE=image/jpeg:https://palatkarivercenter.com/wp-content/uploads/2025/08/qtq80-SdQMpD-e1755705031674.jpeg
END:VEVENT
BEGIN:VEVENT
DTSTART;TZID=UTC:20251122T080000
DTEND;TZID=UTC:20251122T110000
DTSTAMP:20260423T083331
CREATED:20251028T153414Z
LAST-MODIFIED:20251028T153501Z
UID:750-1763798400-1763809200@palatkarivercenter.com
SUMMARY:Kids Fishing Clinic
DESCRIPTION:Join us here in the courtyard to experience a FREE Kids Fishing Clinic! On November 22nd\, children ages 6 to 12 will learn from Donna Frantz about fishing. Gear and bait will be provided to our registering participants. Registration is open 8a to 8:30a the day of the event.
URL:https://palatkarivercenter.com/event/kids-fishing-clinic/
LOCATION:Boathouse Riverfront\, Palatka\, FL\, 32177\, United States
CATEGORIES:Boathouse Riverfront
ATTACH;FMTTYPE=image/jpeg:https://palatkarivercenter.com/wp-content/uploads/2025/10/Kids-Fishing-Clinic-1-e1761665633185.jpg
END:VEVENT
BEGIN:VEVENT
DTSTART;TZID=UTC:20251108T090000
DTEND;TZID=UTC:20251108T200000
DTSTAMP:20260423T083331
CREATED:20250820T153157Z
LAST-MODIFIED:20251007T161022Z
UID:685-1762592400-1762632000@palatkarivercenter.com
SUMMARY:Datil Fest
DESCRIPTION:October 26th 9-8pm for the Inaugural Datil Fest co-hosted by Mayhem Datil Pepper Farms\, Main Street Palatka\, and Putnam UF/IFAS. This event is perfect for datil pepper enthusiasts and families alike. \n 
URL:https://palatkarivercenter.com/event/datil-fest/
LOCATION:The Riverfront\, Palatka\, FL\, 32177\, United States
CATEGORIES:Riverfront Park
ATTACH;FMTTYPE=image/jpeg:https://palatkarivercenter.com/wp-content/uploads/2025/08/Datil-Fest-2.jpg
ORGANIZER;CN="Datil Fest":MAILTO:troy@savethedatil.com
END:VEVENT
BEGIN:VEVENT
DTSTART;TZID=UTC:20251105T100000
DTEND;TZID=UTC:20251105T140000
DTSTAMP:20260423T083331
CREATED:20250807T183821Z
LAST-MODIFIED:20250807T183821Z
UID:660-1762336800-1762351200@palatkarivercenter.com
SUMMARY:Talks with Rob Mattson
DESCRIPTION:Join Bartram Trail Society’s Rob Mattson at The River Center.
URL:https://palatkarivercenter.com/event/talks-with-rob-mattson-4/
LOCATION:The River Center\, 102 North 1st Street\, Palatka\, FL\, 32177\, United States
CATEGORIES:The River Center
ATTACH;FMTTYPE=image/jpeg:https://palatkarivercenter.com/wp-content/uploads/2025/08/Front-Bartram-Image-v3-e1754591489840.jpg
END:VEVENT
BEGIN:VEVENT
DTSTART;TZID=America/New_York:20251025T110000
DTEND;TZID=America/New_York:20251025T140000
DTSTAMP:20260423T083331
CREATED:20250709T205434Z
LAST-MODIFIED:20250710T203238Z
UID:465-1761390000-1761400800@palatkarivercenter.com
SUMMARY:Kids Art Festival
DESCRIPTION:Get creative at the Kids Art Festival at The River Center! We’ll have fun art stations where you can paint\, draw\, design\, and make all sorts of amazing keepsakes. Come explore and let your creativity flow!\n\n\nClick here to register.
URL:https://palatkarivercenter.com/event/kids-art-festival/
LOCATION:The River Center\, 102 North 1st Street\, Palatka\, FL\, 32177\, United States
CATEGORIES:The River Center
ATTACH;FMTTYPE=image/jpeg:https://palatkarivercenter.com/wp-content/uploads/2025/07/Kids-Art-Festival-Flyer-scaled.jpeg
END:VEVENT
BEGIN:VEVENT
DTSTART;TZID=UTC:20251015T180000
DTEND;TZID=UTC:20251015T200000
DTSTAMP:20260423T083331
CREATED:20251007T160804Z
LAST-MODIFIED:20251007T160804Z
UID:744-1760551200-1760558400@palatkarivercenter.com
SUMMARY:Community Open House - Comprehensive Plan Update
DESCRIPTION:The City of Palatka is updating its Comprehensive Plan\, the blueprint that helps guide how our community grows and thrives. This plan reflects the vision we developed together last year\, and now we want your input to ensure it truly represents Palatka’s future.Join us for the second Community Open House scheduled for Wednesday\, October 15\, 2025\, from 6:00 to 8:00 PM at the St. Johns River Center\, located at 102 N. 1st Street\, Palatka\, FL 32177. At this event\, you’ll have the opportunity to learn what the Comprehensive Plan is and why it matters\, review draft updates for each chapter\, and share your own ideas and feedback.Your voice is essential in making sure the Plan reflects the community’s vision. The decisions we are making today will shape Palatka for years to come. Don’t miss this chance to get involved and help guide the future of our city.
URL:https://palatkarivercenter.com/event/community-open-house-comprehensive-plan-update/
LOCATION:The River Center\, 102 North 1st Street\, Palatka\, FL\, 32177\, United States
CATEGORIES:The River Center
ATTACH;FMTTYPE=image/jpeg:https://palatkarivercenter.com/wp-content/uploads/2025/10/Palatka-Community-Open-House.jpg
END:VEVENT
BEGIN:VEVENT
DTSTART;TZID=UTC:20251010T173000
DTEND;TZID=UTC:20251010T203000
DTSTAMP:20260423T083331
CREATED:20250902T143824Z
LAST-MODIFIED:20250902T143824Z
UID:699-1760117400-1760128200@palatkarivercenter.com
SUMMARY:Palatka Wine Stroll
DESCRIPTION:Join us for a delightful journey with “Revitalize Historic Palatka” on our seasonal wine stroll! Explore the charm of downtown Palatka\, visit local merchants\, savor exquisite wines and experience various hors d’oeuvres. Don’t miss this enchanting experience! \n  \nTicket sales coming soon. \n 
URL:https://palatkarivercenter.com/event/palatka-wine-stroll/
CATEGORIES:Riverfront Park
ATTACH;FMTTYPE=image/jpeg:https://palatkarivercenter.com/wp-content/uploads/2025/09/qtq80-Hr07I7-e1756823767129.jpeg
END:VEVENT
BEGIN:VEVENT
DTSTART;TZID=UTC:20251004T170000
DTEND;TZID=UTC:20251004T210000
DTSTAMP:20260423T083331
CREATED:20250807T182858Z
LAST-MODIFIED:20250807T182858Z
UID:649-1759597200-1759611600@palatkarivercenter.com
SUMMARY:Rodeheaver Boys Ranch Gala
DESCRIPTION:You’re Invited!Join us this October for the Rodeheaver Boys Ranch Gala as we celebrate 75 years of building brighter futures for boys and families.It’s a night of purpose\, community\, and support for a mission that changes lives. You can expect delicious food and mocktails\, great music\, and a silent auction!For more information and to purchase tickets\, visit our website at https://rbr.org/…/new-rodeheaver-boys-ranch-charity…/
URL:https://palatkarivercenter.com/event/rodeheaver-boys-ranch-gala/
LOCATION:The River Center\, 102 North 1st Street\, Palatka\, FL\, 32177\, United States
CATEGORIES:The River Center
ATTACH;FMTTYPE=image/jpeg:https://palatkarivercenter.com/wp-content/uploads/2025/08/Rodeavers-e1754591304692.jpg
END:VEVENT
BEGIN:VEVENT
DTSTART;TZID=UTC:20251004T100000
DTEND;TZID=UTC:20251004T160000
DTSTAMP:20260423T083331
CREATED:20250820T152507Z
LAST-MODIFIED:20250820T152507Z
UID:683-1759572000-1759593600@palatkarivercenter.com
SUMMARY:NFFN Folk Fest
DESCRIPTION:More info coming soon!
URL:https://palatkarivercenter.com/event/nffn-folk-fest/
CATEGORIES:Riverfront Park
END:VEVENT
BEGIN:VEVENT
DTSTART;TZID=UTC:20251003T200000
DTEND;TZID=UTC:20251003T230000
DTSTAMP:20260423T083331
CREATED:20250911T195636Z
LAST-MODIFIED:20250911T195715Z
UID:729-1759521600-1759532400@palatkarivercenter.com
SUMMARY:Community Movie Night!
DESCRIPTION:Free movie night coming up on October 3rd! \nBring a blanket or chair to watch a movie in our courtyard. You and your family can enjoy free popcorn\, drinks\, and Italian ice while supplies last! We had a great turn out last time\, and can’t wait for another amazing evening with the community! Spread the word! \n 
URL:https://palatkarivercenter.com/event/community-movie-night-2/
LOCATION:The River Center\, 102 North 1st Street\, Palatka\, FL\, 32177\, United States
CATEGORIES:The River Center
ATTACH;FMTTYPE=image/jpeg:https://palatkarivercenter.com/wp-content/uploads/2025/09/Luca-Movie-Flyer-scaled-e1757620521811.jpeg
END:VEVENT
BEGIN:VEVENT
DTSTART;TZID=UTC:20251002T180000
DTEND;TZID=UTC:20251002T200000
DTSTAMP:20260423T083331
CREATED:20250820T145409Z
LAST-MODIFIED:20250911T200354Z
UID:680-1759428000-1759435200@palatkarivercenter.com
SUMMARY:Riverside Wealth Advisors Seminar
DESCRIPTION:Planning for your future? Register by September 25th to attend a workshop on Care Planning hosted by Riverside Wealth Advisors at the River Center on October 2nd. Learn how to prepare for a retirement that will have you living comfortably and secure. Sign up today! \n \n \n 
URL:https://palatkarivercenter.com/event/riverside-wealth-advisors-seminar/
LOCATION:The River Center\, 102 North 1st Street\, Palatka\, FL\, 32177\, United States
CATEGORIES:The River Center
ATTACH;FMTTYPE=image/jpeg:https://palatkarivercenter.com/wp-content/uploads/2025/08/RWA_Waterlily-Mailer-2_08.27.25_FNL-1_Page_1-scaled.jpg
ORGANIZER;CN="Riverside Wealth Advisors":MAILTO:info@riversidewa.com
END:VEVENT
BEGIN:VEVENT
DTSTART;TZID=UTC:20251001T100000
DTEND;TZID=UTC:20251001T140000
DTSTAMP:20260423T083331
CREATED:20250807T183757Z
LAST-MODIFIED:20250807T183757Z
UID:658-1759312800-1759327200@palatkarivercenter.com
SUMMARY:Talks with Rob Mattson
DESCRIPTION:Join Bartram Trail Society’s Rob Mattson at The River Center.
URL:https://palatkarivercenter.com/event/talks-with-rob-mattson-3/
LOCATION:The River Center\, 102 North 1st Street\, Palatka\, FL\, 32177\, United States
CATEGORIES:The River Center
ATTACH;FMTTYPE=image/jpeg:https://palatkarivercenter.com/wp-content/uploads/2025/08/Front-Bartram-Image-v3-e1754591489840.jpg
END:VEVENT
BEGIN:VEVENT
DTSTART;TZID=UTC:20250903T100000
DTEND;TZID=UTC:20250903T140000
DTSTAMP:20260423T083331
CREATED:20250807T183718Z
LAST-MODIFIED:20250807T183718Z
UID:656-1756893600-1756908000@palatkarivercenter.com
SUMMARY:Talks with Rob Mattson
DESCRIPTION:Join Bartram Trail Society’s Rob Mattson at The River Center.
URL:https://palatkarivercenter.com/event/talks-with-rob-mattson-2/
LOCATION:The River Center\, 102 North 1st Street\, Palatka\, FL\, 32177\, United States
CATEGORIES:The River Center
ATTACH;FMTTYPE=image/jpeg:https://palatkarivercenter.com/wp-content/uploads/2025/08/Front-Bartram-Image-v3-e1754591489840.jpg
END:VEVENT
BEGIN:VEVENT
DTSTART;TZID=America/New_York:20250818T163000
DTEND;TZID=America/New_York:20250818T181500
DTSTAMP:20260423T083331
CREATED:20250710T155824Z
LAST-MODIFIED:20250710T160835Z
UID:520-1755534600-1755540900@palatkarivercenter.com
SUMMARY:Palatka Chess Club
DESCRIPTION:Check your mates and bring them to The River Center to play a game of chess! From novice to expert\, all levels are welcome to practice and learn more about chess.
URL:https://palatkarivercenter.com/event/palatka-chess-club-3/
LOCATION:The River Center\, 102 North 1st Street\, Palatka\, FL\, 32177\, United States
CATEGORIES:The River Center
ATTACH;FMTTYPE=image/jpeg:https://palatkarivercenter.com/wp-content/uploads/2025/07/Chess-Club.jpg
END:VEVENT
BEGIN:VEVENT
DTSTART;TZID=UTC:20250816T130000
DTEND;TZID=UTC:20250816T140000
DTSTAMP:20260423T083331
CREATED:20250813T154104Z
LAST-MODIFIED:20250813T154104Z
UID:677-1755349200-1755352800@palatkarivercenter.com
SUMMARY:Growing Your Own Mushrooms
DESCRIPTION:.** Please read all details before RSVP **\nLocation: St John’s River Center in Palatka\, FL(https://www.facebook.com/stjohnsrivercenter)\nCost: $40.00Class Location: Downstairs Main LobbyPayment must be received 1 week prior to class in order to reserve your spot. To reserve your spot\, please contact teacher directly for cash app options.Teacher: Johnathan JohnsonAges: 13 Yrs old & aboveChildren MUST be accompanied by their parent during entire duration of class.Johnathan will lead students through the procedures of putting together a mushroom log and answer any questions you have on growing mushrooms at home.Our teacher will be available for a meet and greet while he is selling his products from 2:00 – 2:30PM in the foyer.
URL:https://palatkarivercenter.com/event/growing-your-own-mushrooms/
LOCATION:The River Center\, 102 North 1st Street\, Palatka\, FL\, 32177\, United States
CATEGORIES:The River Center
ATTACH;FMTTYPE=image/jpeg:https://palatkarivercenter.com/wp-content/uploads/2025/08/474382902_122188561232245679_4776365220566222815_n.jpg
END:VEVENT
BEGIN:VEVENT
DTSTART;TZID=UTC:20250808T180000
DTEND;TZID=UTC:20250808T220000
DTSTAMP:20260423T083331
CREATED:20250807T142106Z
LAST-MODIFIED:20250807T162453Z
UID:634-1754676000-1754690400@palatkarivercenter.com
SUMMARY:Run it Back R&B
DESCRIPTION:“We’re excited to team up with Commissioner Campbell once again to bring the energy back to the riverfront for Run it Back R&B. With his continued support\, this night is sure to be one to remember!” \n 
URL:https://palatkarivercenter.com/event/run-it-back-rb/
LOCATION:The Riverfront\, Palatka\, FL\, 32177\, United States
CATEGORIES:Riverfront Park
ATTACH;FMTTYPE=image/jpeg:https://palatkarivercenter.com/wp-content/uploads/2025/08/RandB-e1754576423832.jpg
END:VEVENT
BEGIN:VEVENT
DTSTART;TZID=UTC:20250808T170000
DTEND;TZID=UTC:20250808T200000
DTSTAMP:20260423T083331
CREATED:20250807T181541Z
LAST-MODIFIED:20250807T181541Z
UID:640-1754672400-1754683200@palatkarivercenter.com
SUMMARY:Art Is In Our Nature Exhibit Opening Reception
DESCRIPTION:See flyer for details  & stop by to meet the local artists & see the juried artworks.
URL:https://palatkarivercenter.com/event/art-is-in-our-nature-exhibit-opening-reception/
LOCATION:The River Center\, 102 North 1st Street\, Palatka\, FL\, 32177\, United States
CATEGORIES:The River Center
ATTACH;FMTTYPE=image/jpeg:https://palatkarivercenter.com/wp-content/uploads/2025/08/GAP-e1754590456183.jpg
END:VEVENT
BEGIN:VEVENT
DTSTART;TZID=UTC:20250808T160000
DTEND;TZID=UTC:20250808T180000
DTSTAMP:20260423T083331
CREATED:20250807T141454Z
LAST-MODIFIED:20250807T184135Z
UID:631-1754668800-1754676000@palatkarivercenter.com
SUMMARY:Back-to-School Bash
DESCRIPTION:Update: Location has been moved from the Riverfront to the Jenkins Facility.  \nPalatka’s Community Affairs Recreation Department will be having its first Back to School Bash from 4–6 p.m. Friday at Jenkins Facility. \nhttps://www.palatkadailynews.com/local-news/back-school-event-occurring-riverfront
URL:https://palatkarivercenter.com/event/back-to-school-bash/
LOCATION:Jenkins Facility
CATEGORIES:Riverfront Park
ATTACH;FMTTYPE=image/jpeg:https://palatkarivercenter.com/wp-content/uploads/2025/08/back-to-school-e1754584051453.jpg
END:VEVENT
BEGIN:VEVENT
DTSTART;VALUE=DATE:20250807
DTEND;VALUE=DATE:20250920
DTSTAMP:20260423T083331
CREATED:20250807T182146Z
LAST-MODIFIED:20250807T182257Z
UID:644-1754524800-1758326399@palatkarivercenter.com
SUMMARY:Art Is In Our Nature Exhibit at The River Center
DESCRIPTION:Gathering Artists of Putnam display “Art Is In Our Nature” exhibit at The River Center.
URL:https://palatkarivercenter.com/event/art-is-in-our-nature-exhibit/
LOCATION:The River Center\, 102 North 1st Street\, Palatka\, FL\, 32177\, United States
CATEGORIES:The River Center
ATTACH;FMTTYPE=image/jpeg:https://palatkarivercenter.com/wp-content/uploads/2025/08/GAP-2.jpg
END:VEVENT
BEGIN:VEVENT
DTSTART;TZID=UTC:20250806T100000
DTEND;TZID=UTC:20250806T140000
DTSTAMP:20260423T083331
CREATED:20250807T183430Z
LAST-MODIFIED:20250807T183559Z
UID:653-1754474400-1754488800@palatkarivercenter.com
SUMMARY:Talks with Rob Mattson
DESCRIPTION:Join Bartram Trail Society’s Rob Mattson at The River Center.
URL:https://palatkarivercenter.com/event/talks-with-rob-mattson/
LOCATION:The River Center\, 102 North 1st Street\, Palatka\, FL\, 32177\, United States
CATEGORIES:The River Center
ATTACH;FMTTYPE=image/jpeg:https://palatkarivercenter.com/wp-content/uploads/2025/08/Front-Bartram-Image-v3-e1754591489840.jpg
END:VEVENT
BEGIN:VEVENT
DTSTART;TZID=UTC:20250805T173000
DTEND;TZID=UTC:20250805T200000
DTSTAMP:20260423T083331
CREATED:20250805T135555Z
LAST-MODIFIED:20250807T140629Z
UID:625-1754415000-1754424000@palatkarivercenter.com
SUMMARY:National Night Out
DESCRIPTION:It’s an annual community-building campaign that promotes police-community partnerships and neighborhood camaraderie to make neighborhoods safer and more caring places to live. The event encourages residents to get to know their neighbors and local law enforcement.\n\nThere will be a kids zone\, food trucks\, vendors\, touch a truck\, DJ\, raffles and more All FREE of cost (except food truck and vendor purchase’s).
URL:https://palatkarivercenter.com/event/national-night-out/
LOCATION:The Riverfront\, Palatka\, FL\, 32177\, United States
CATEGORIES:Riverfront Park
ATTACH;FMTTYPE=image/jpeg:https://palatkarivercenter.com/wp-content/uploads/2025/08/EventPhotoFull_ppd-national-night-oiut.jpg
END:VEVENT
BEGIN:VEVENT
DTSTART;TZID=America/New_York:20250804T163000
DTEND;TZID=America/New_York:20250804T181500
DTSTAMP:20260423T083331
CREATED:20250710T155753Z
LAST-MODIFIED:20250710T160904Z
UID:518-1754325000-1754331300@palatkarivercenter.com
SUMMARY:Palatka Chess Club
DESCRIPTION:Check your mates and bring them to The River Center to play a game of chess! From novice to expert\, all levels are welcome to practice and learn more about chess.
URL:https://palatkarivercenter.com/event/palatka-chess-club-2/
LOCATION:The River Center\, 102 North 1st Street\, Palatka\, FL\, 32177\, United States
CATEGORIES:The River Center
ATTACH;FMTTYPE=image/jpeg:https://palatkarivercenter.com/wp-content/uploads/2025/07/Chess-Club.jpg
END:VEVENT
BEGIN:VEVENT
DTSTART;TZID=America/New_York:20250721T163000
DTEND;TZID=America/New_York:20250721T181500
DTSTAMP:20260423T083331
CREATED:20250710T155625Z
LAST-MODIFIED:20250710T160918Z
UID:515-1753115400-1753121700@palatkarivercenter.com
SUMMARY:Palatka Chess Club
DESCRIPTION:Check your mates and bring them to The River Center to play a game of chess! From novice to expert\, all levels are welcome to practice and learn more about chess.
URL:https://palatkarivercenter.com/event/palatka-chess-club/
LOCATION:The River Center\, 102 North 1st Street\, Palatka\, FL\, 32177\, United States
CATEGORIES:The River Center
ATTACH;FMTTYPE=image/jpeg:https://palatkarivercenter.com/wp-content/uploads/2025/07/Chess-Club.jpg
END:VEVENT
BEGIN:VEVENT
DTSTART;TZID=America/New_York:20250719T110000
DTEND;TZID=America/New_York:20250719T120000
DTSTAMP:20260423T083331
CREATED:20250710T165918Z
LAST-MODIFIED:20250710T165918Z
UID:526-1752922800-1752926400@palatkarivercenter.com
SUMMARY:Beginner Pilates
DESCRIPTION:Join us as our teacher Amber goes through a series of strengthening\, lengthening\, mobility\, and balance exercises. Students need to bring an exercise mat and a hat for the class. Our teacher will be available for a meet and greet at her sales table after the class in the foyer from 12:00 – 12:30.\n\n** Please read all details before RSVP **\n\nLocation: St John’s River Center in Palatka\, FL\nClass Location: Outdoor Side Lawn; Indoor Main Lobby (if bad weather)\n\nCost: $25.00\nPayment must be received 1 week prior to class in order to reserve your spot. To pay\, please be sure and contact the teacher directly.\n\nTeacher: Amber Garner\n386-848-2373\n\nAges: 10 & Above
URL:https://palatkarivercenter.com/event/beginner-pilates/
LOCATION:The River Center\, 102 North 1st Street\, Palatka\, FL\, 32177\, United States
CATEGORIES:The River Center
ATTACH;FMTTYPE=image/jpeg:https://palatkarivercenter.com/wp-content/uploads/2025/07/qtq80-mhyjso-e1752166715232.jpeg
END:VEVENT
BEGIN:VEVENT
DTSTART;TZID=America/New_York:20250711T180000
DTEND;TZID=America/New_York:20250711T220000
DTSTAMP:20260423T083331
CREATED:20250710T180544Z
LAST-MODIFIED:20250710T204533Z
UID:532-1752256800-1752271200@palatkarivercenter.com
SUMMARY:Latin & Reggae on the River
DESCRIPTION:Music\, food\, and fun by the St. Johns River.
URL:https://palatkarivercenter.com/event/latin-reggae-on-the-river/
LOCATION:The Riverfront\, Palatka\, FL\, 32177\, United States
CATEGORIES:Riverfront Park
ATTACH;FMTTYPE=image/jpeg:https://palatkarivercenter.com/wp-content/uploads/2025/07/Latin-Reggae-Night.jpg
END:VEVENT
BEGIN:VEVENT
DTSTART;TZID=America/New_York:20250704T200000
DTEND;TZID=America/New_York:20250704T210000
DTSTAMP:20260423T083331
CREATED:20250710T154143Z
LAST-MODIFIED:20250710T204823Z
UID:503-1751659200-1751662800@palatkarivercenter.com
SUMMARY:Lighted Boat Parade
DESCRIPTION:At 8:30p catch a lighted boat parade coordinated by Palatka Boathouse Riverfront followed by fireworks! \nInterested in entering your boat in the parade? \n\nRegistration for the parade will be at the City Marina Building\nYou will need a number for your boat to participate\n\n  \nPrizes for most patriotic include: \n\n1 month Slip Rental at Boathouse Marina up to 45 ft boat (Value $600)\n1 day rental of the Jenkins Community Center multi purpose room (Value $450)\nKayak Tour for 2 People (Value $120)
URL:https://palatkarivercenter.com/event/4th-of-july-lighted-boat-parade/
LOCATION:Boathouse Riverfront\, Palatka\, FL\, 32177\, United States
CATEGORIES:Boathouse Riverfront
ATTACH;FMTTYPE=image/jpeg:https://palatkarivercenter.com/wp-content/uploads/2025/07/4th-of-July-Boat-Parade-Flyer-v.2-scaled.jpg
ORGANIZER;CN="Boathouse Riverfront":MAILTO:Info@palatkariverfront.com
END:VEVENT
BEGIN:VEVENT
DTSTART;TZID=America/New_York:20250621T200000
DTEND;TZID=America/New_York:20250621T220000
DTSTAMP:20260423T083331
CREATED:20250710T160700Z
LAST-MODIFIED:20250710T204901Z
UID:522-1750536000-1750543200@palatkarivercenter.com
SUMMARY:Community Movie Night
DESCRIPTION:Cruise in to the courtyard for a family friendly movie night on Saturday\, June 21st at 8pm. Come in your best tropical themed outfit and you might win a prize for best costume! Free popcorn and drinks while supplies last. Bring a blanket or lawn chair to get comfy in our courtyard. \n 
URL:https://palatkarivercenter.com/event/community-movie-night/
LOCATION:The River Center\, 102 North 1st Street\, Palatka\, FL\, 32177\, United States
CATEGORIES:The River Center
ATTACH;FMTTYPE=image/jpeg:https://palatkarivercenter.com/wp-content/uploads/2025/07/Moana-Movie-Social-Media-Ad.jpeg
END:VEVENT
END:VCALENDAR