BEGIN:VCALENDAR
VERSION:2.0
PRODID:-//The River Center - ECPv6.15.20//NONSGML v1.0//EN
CALSCALE:GREGORIAN
METHOD:PUBLISH
X-WR-CALNAME:The River Center
X-ORIGINAL-URL:https://palatkarivercenter.com
X-WR-CALDESC:Events for The River Center
REFRESH-INTERVAL;VALUE=DURATION:PT1H
X-Robots-Tag:noindex
X-PUBLISHED-TTL:PT1H
BEGIN:VTIMEZONE
TZID:UTC
BEGIN:STANDARD
TZOFFSETFROM:+0000
TZOFFSETTO:+0000
TZNAME:UTC
DTSTART:20240101T000000
END:STANDARD
END:VTIMEZONE
BEGIN:VEVENT
DTSTART;TZID=UTC:20251002T180000
DTEND;TZID=UTC:20251002T200000
DTSTAMP:20260423T095540
CREATED:20250820T145409Z
LAST-MODIFIED:20250911T200354Z
UID:680-1759428000-1759435200@palatkarivercenter.com
SUMMARY:Riverside Wealth Advisors Seminar
DESCRIPTION:Planning for your future? Register by September 25th to attend a workshop on Care Planning hosted by Riverside Wealth Advisors at the River Center on October 2nd. Learn how to prepare for a retirement that will have you living comfortably and secure. Sign up today! \n \n \n 
URL:https://palatkarivercenter.com/event/riverside-wealth-advisors-seminar/
LOCATION:The River Center\, 102 North 1st Street\, Palatka\, FL\, 32177\, United States
CATEGORIES:The River Center
ATTACH;FMTTYPE=image/jpeg:https://palatkarivercenter.com/wp-content/uploads/2025/08/RWA_Waterlily-Mailer-2_08.27.25_FNL-1_Page_1-scaled.jpg
ORGANIZER;CN="Riverside Wealth Advisors":MAILTO:info@riversidewa.com
END:VEVENT
END:VCALENDAR