BEGIN:VCALENDAR
VERSION:2.0
PRODID:-//The River Center - ECPv6.15.20//NONSGML v1.0//EN
CALSCALE:GREGORIAN
METHOD:PUBLISH
X-WR-CALNAME:The River Center
X-ORIGINAL-URL:https://palatkarivercenter.com
X-WR-CALDESC:Events for The River Center
REFRESH-INTERVAL;VALUE=DURATION:PT1H
X-Robots-Tag:noindex
X-PUBLISHED-TTL:PT1H
BEGIN:VTIMEZONE
TZID:UTC
BEGIN:STANDARD
TZOFFSETFROM:+0000
TZOFFSETTO:+0000
TZNAME:UTC
DTSTART:20240101T000000
END:STANDARD
END:VTIMEZONE
BEGIN:VEVENT
DTSTART;TZID=UTC:20251004T100000
DTEND;TZID=UTC:20251004T160000
DTSTAMP:20260423T144238
CREATED:20250820T152507Z
LAST-MODIFIED:20250820T152507Z
UID:683-1759572000-1759593600@palatkarivercenter.com
SUMMARY:NFFN Folk Fest
DESCRIPTION:More info coming soon!
URL:https://palatkarivercenter.com/event/nffn-folk-fest/
CATEGORIES:Riverfront Park
END:VEVENT
END:VCALENDAR