BEGIN:VCALENDAR
VERSION:2.0
PRODID:-//The River Center - ECPv6.15.20//NONSGML v1.0//EN
CALSCALE:GREGORIAN
METHOD:PUBLISH
X-WR-CALNAME:The River Center
X-ORIGINAL-URL:https://palatkarivercenter.com
X-WR-CALDESC:Events for The River Center
REFRESH-INTERVAL;VALUE=DURATION:PT1H
X-Robots-Tag:noindex
X-PUBLISHED-TTL:PT1H
BEGIN:VTIMEZONE
TZID:UTC
BEGIN:STANDARD
TZOFFSETFROM:+0000
TZOFFSETTO:+0000
TZNAME:UTC
DTSTART:20240101T000000
END:STANDARD
END:VTIMEZONE
BEGIN:VEVENT
DTSTART;TZID=UTC:20251108T090000
DTEND;TZID=UTC:20251108T200000
DTSTAMP:20260423T045137
CREATED:20250820T153157Z
LAST-MODIFIED:20251007T161022Z
UID:685-1762592400-1762632000@palatkarivercenter.com
SUMMARY:Datil Fest
DESCRIPTION:October 26th 9-8pm for the Inaugural Datil Fest co-hosted by Mayhem Datil Pepper Farms\, Main Street Palatka\, and Putnam UF/IFAS. This event is perfect for datil pepper enthusiasts and families alike. \n 
URL:https://palatkarivercenter.com/event/datil-fest/
LOCATION:The Riverfront\, Palatka\, FL\, 32177\, United States
CATEGORIES:Riverfront Park
ATTACH;FMTTYPE=image/jpeg:https://palatkarivercenter.com/wp-content/uploads/2025/08/Datil-Fest-2.jpg
ORGANIZER;CN="Datil Fest":MAILTO:troy@savethedatil.com
END:VEVENT
END:VCALENDAR