BEGIN:VCALENDAR
VERSION:2.0
PRODID:-//The River Center - ECPv6.15.20//NONSGML v1.0//EN
CALSCALE:GREGORIAN
METHOD:PUBLISH
X-ORIGINAL-URL:https://palatkarivercenter.com
X-WR-CALDESC:Events for The River Center
REFRESH-INTERVAL;VALUE=DURATION:PT1H
X-Robots-Tag:noindex
X-PUBLISHED-TTL:PT1H
BEGIN:VTIMEZONE
TZID:UTC
BEGIN:STANDARD
TZOFFSETFROM:+0000
TZOFFSETTO:+0000
TZNAME:UTC
DTSTART:20240101T000000
END:STANDARD
END:VTIMEZONE
BEGIN:VEVENT
DTSTART;TZID=UTC:20251015T180000
DTEND;TZID=UTC:20251015T200000
DTSTAMP:20260423T063403
CREATED:20251007T160804Z
LAST-MODIFIED:20251007T160804Z
UID:744-1760551200-1760558400@palatkarivercenter.com
SUMMARY:Community Open House - Comprehensive Plan Update
DESCRIPTION:The City of Palatka is updating its Comprehensive Plan\, the blueprint that helps guide how our community grows and thrives. This plan reflects the vision we developed together last year\, and now we want your input to ensure it truly represents Palatka’s future.Join us for the second Community Open House scheduled for Wednesday\, October 15\, 2025\, from 6:00 to 8:00 PM at the St. Johns River Center\, located at 102 N. 1st Street\, Palatka\, FL 32177. At this event\, you’ll have the opportunity to learn what the Comprehensive Plan is and why it matters\, review draft updates for each chapter\, and share your own ideas and feedback.Your voice is essential in making sure the Plan reflects the community’s vision. The decisions we are making today will shape Palatka for years to come. Don’t miss this chance to get involved and help guide the future of our city.
URL:https://palatkarivercenter.com/event/community-open-house-comprehensive-plan-update/
LOCATION:The River Center\, 102 North 1st Street\, Palatka\, FL\, 32177\, United States
CATEGORIES:The River Center
ATTACH;FMTTYPE=image/jpeg:https://palatkarivercenter.com/wp-content/uploads/2025/10/Palatka-Community-Open-House.jpg
END:VEVENT
END:VCALENDAR