BEGIN:VCALENDAR
VERSION:2.0
PRODID:-//The River Center - ECPv6.15.20//NONSGML v1.0//EN
CALSCALE:GREGORIAN
METHOD:PUBLISH
X-WR-CALNAME:The River Center
X-ORIGINAL-URL:https://palatkarivercenter.com
X-WR-CALDESC:Events for The River Center
REFRESH-INTERVAL;VALUE=DURATION:PT1H
X-Robots-Tag:noindex
X-PUBLISHED-TTL:PT1H
BEGIN:VTIMEZONE
TZID:UTC
BEGIN:STANDARD
TZOFFSETFROM:+0000
TZOFFSETTO:+0000
TZNAME:UTC
DTSTART:20240101T000000
END:STANDARD
END:VTIMEZONE
BEGIN:VEVENT
DTSTART;TZID=UTC:20250806T100000
DTEND;TZID=UTC:20250806T140000
DTSTAMP:20260423T094136
CREATED:20250807T183430Z
LAST-MODIFIED:20250807T183559Z
UID:653-1754474400-1754488800@palatkarivercenter.com
SUMMARY:Talks with Rob Mattson
DESCRIPTION:Join Bartram Trail Society’s Rob Mattson at The River Center.
URL:https://palatkarivercenter.com/event/talks-with-rob-mattson/
LOCATION:The River Center\, 102 North 1st Street\, Palatka\, FL\, 32177\, United States
CATEGORIES:The River Center
ATTACH;FMTTYPE=image/jpeg:https://palatkarivercenter.com/wp-content/uploads/2025/08/Front-Bartram-Image-v3-e1754591489840.jpg
END:VEVENT
END:VCALENDAR