BEGIN:VCALENDAR
VERSION:2.0
PRODID:-//The River Center - ECPv6.15.20//NONSGML v1.0//EN
CALSCALE:GREGORIAN
METHOD:PUBLISH
X-WR-CALNAME:The River Center
X-ORIGINAL-URL:https://palatkarivercenter.com
X-WR-CALDESC:Events for The River Center
REFRESH-INTERVAL;VALUE=DURATION:PT1H
X-Robots-Tag:noindex
X-PUBLISHED-TTL:PT1H
BEGIN:VTIMEZONE
TZID:America/New_York
BEGIN:DAYLIGHT
TZOFFSETFROM:-0500
TZOFFSETTO:-0400
TZNAME:EDT
DTSTART:20240310T070000
END:DAYLIGHT
BEGIN:STANDARD
TZOFFSETFROM:-0400
TZOFFSETTO:-0500
TZNAME:EST
DTSTART:20241103T060000
END:STANDARD
BEGIN:DAYLIGHT
TZOFFSETFROM:-0500
TZOFFSETTO:-0400
TZNAME:EDT
DTSTART:20250309T070000
END:DAYLIGHT
BEGIN:STANDARD
TZOFFSETFROM:-0400
TZOFFSETTO:-0500
TZNAME:EST
DTSTART:20251102T060000
END:STANDARD
BEGIN:DAYLIGHT
TZOFFSETFROM:-0500
TZOFFSETTO:-0400
TZNAME:EDT
DTSTART:20260308T070000
END:DAYLIGHT
BEGIN:STANDARD
TZOFFSETFROM:-0400
TZOFFSETTO:-0500
TZNAME:EST
DTSTART:20261101T060000
END:STANDARD
END:VTIMEZONE
BEGIN:VEVENT
DTSTART;TZID=America/New_York:20250719T110000
DTEND;TZID=America/New_York:20250719T120000
DTSTAMP:20260423T110609
CREATED:20250710T165918Z
LAST-MODIFIED:20250710T165918Z
UID:526-1752922800-1752926400@palatkarivercenter.com
SUMMARY:Beginner Pilates
DESCRIPTION:Join us as our teacher Amber goes through a series of strengthening\, lengthening\, mobility\, and balance exercises. Students need to bring an exercise mat and a hat for the class. Our teacher will be available for a meet and greet at her sales table after the class in the foyer from 12:00 – 12:30.\n\n** Please read all details before RSVP **\n\nLocation: St John’s River Center in Palatka\, FL\nClass Location: Outdoor Side Lawn; Indoor Main Lobby (if bad weather)\n\nCost: $25.00\nPayment must be received 1 week prior to class in order to reserve your spot. To pay\, please be sure and contact the teacher directly.\n\nTeacher: Amber Garner\n386-848-2373\n\nAges: 10 & Above
URL:https://palatkarivercenter.com/event/beginner-pilates/
LOCATION:The River Center\, 102 North 1st Street\, Palatka\, FL\, 32177\, United States
CATEGORIES:The River Center
ATTACH;FMTTYPE=image/jpeg:https://palatkarivercenter.com/wp-content/uploads/2025/07/qtq80-mhyjso-e1752166715232.jpeg
END:VEVENT
END:VCALENDAR